BEGIN:VCALENDAR
VERSION:2.0
PRODID:-//Community Hospice &amp; Health Services - ECPv6.15.20//NONSGML v1.0//EN
CALSCALE:GREGORIAN
METHOD:PUBLISH
X-WR-CALNAME:Community Hospice &amp; Health Services
X-ORIGINAL-URL:https://hospiceheart.org
X-WR-CALDESC:Events for Community Hospice &amp; Health Services
REFRESH-INTERVAL;VALUE=DURATION:PT1H
X-Robots-Tag:noindex
X-PUBLISHED-TTL:PT1H
BEGIN:VTIMEZONE
TZID:America/Los_Angeles
BEGIN:DAYLIGHT
TZOFFSETFROM:-0800
TZOFFSETTO:-0700
TZNAME:PDT
DTSTART:20230312T100000
END:DAYLIGHT
BEGIN:STANDARD
TZOFFSETFROM:-0700
TZOFFSETTO:-0800
TZNAME:PST
DTSTART:20231105T090000
END:STANDARD
BEGIN:DAYLIGHT
TZOFFSETFROM:-0800
TZOFFSETTO:-0700
TZNAME:PDT
DTSTART:20240310T100000
END:DAYLIGHT
BEGIN:STANDARD
TZOFFSETFROM:-0700
TZOFFSETTO:-0800
TZNAME:PST
DTSTART:20241103T090000
END:STANDARD
BEGIN:DAYLIGHT
TZOFFSETFROM:-0800
TZOFFSETTO:-0700
TZNAME:PDT
DTSTART:20250309T100000
END:DAYLIGHT
BEGIN:STANDARD
TZOFFSETFROM:-0700
TZOFFSETTO:-0800
TZNAME:PST
DTSTART:20251102T090000
END:STANDARD
END:VTIMEZONE
BEGIN:VEVENT
DTSTART;TZID=America/Los_Angeles:20241205T173000
DTEND;TZID=America/Los_Angeles:20241205T183000
DTSTAMP:20260425T203553
CREATED:20241118T194956Z
LAST-MODIFIED:20241211T005435Z
UID:4072-1733419800-1733423400@hospiceheart.org
SUMMARY:Light Up A Life – Turlock
DESCRIPTION:5:30 PM Reception 6:00 PM Program
URL:https://hospiceheart.org/event/light-up-a-life-turlock/
LOCATION:Turlock Memorial Park & Funeral Home\, 575 N. Soderquist Road\, Turlock\, California\, 95380
CATEGORIES:Foundation
ATTACH;FMTTYPE=image/jpeg:https://hospiceheart.org/wp-content/uploads/2024/11/LUAL_FB_Turlock.jpg
END:VEVENT
BEGIN:VEVENT
DTSTART;TZID=America/Los_Angeles:20241204T180000
DTEND;TZID=America/Los_Angeles:20241204T190000
DTSTAMP:20260425T203553
CREATED:20241118T220441Z
LAST-MODIFIED:20241118T233416Z
UID:4090-1733335200-1733338800@hospiceheart.org
SUMMARY:Family Tree Decorating Ceremony – Facility & ACHH
DESCRIPTION:As the holiday season arrives\, it is a time to reflect onour loved ones who are no longer with us. Please joinus for our 20th Annual Community Hospice & HealthServices Family Tree Decorating Ceremony.This evening will provide you an opportunity to honor your lovedone in a very special way and celebrate with thoseclose to you the beautiful memories that forever live.Attendees will be provided a beautiful personalizedcommemorative ornament inscribed with your lovedones name. During our ceremony participants will placethe ornament on our tree after the reading of your lovedones name. Following the ceremony\, the decoratedfamily tree will be placed in our lobby throughout theholiday season to honor our hospice loved ones.After the first of the year\, your personalized ornamentwill be available for you to pick up from our main office\,to become a permanent addition to your own familycelebrations for years to come.
URL:https://hospiceheart.org/event/family-tree-decorating-ceremony/
LOCATION:Haig & Isabel Berberian Patient Services Center\, 4368 Spyres Way\, Modesto\, California\, 95356\, United States
ATTACH;FMTTYPE=image/jpeg:https://hospiceheart.org/wp-content/uploads/2024/09/Family-Tree_ERC.jpg
END:VEVENT
BEGIN:VEVENT
DTSTART;TZID=America/Los_Angeles:20241203T180000
DTEND;TZID=America/Los_Angeles:20241203T190000
DTSTAMP:20260425T203553
CREATED:20241118T233039Z
LAST-MODIFIED:20241118T233329Z
UID:4109-1733248800-1733252400@hospiceheart.org
SUMMARY:Family Tree Decorating Ceremony – Home & Pediatrics
DESCRIPTION:As the holiday season arrives\, it is a time to reflect onour loved ones who are no longer with us. Please joinus for our 20th Annual Community Hospice & HealthServices Family Tree Decorating Ceremony.This evening will provide you an opportunity to honor your lovedone in a very special way and celebrate with thoseclose to you the beautiful memories that forever live.Attendees will be provided a beautiful personalizedcommemorative ornament inscribed with your lovedones name. During our ceremony participants will placethe ornament on our tree after the reading of your lovedones name. Following the ceremony\, the decoratedfamily tree will be placed in our lobby throughout theholiday season to honor our hospice loved ones.After the first of the year\, your personalized ornamentwill be available for you to pick up from our main office\,to become a permanent addition to your own familycelebrations for years to come.To learn more or register\, call 209.578.6300 or email heal@hospiceheart.org.
URL:https://hospiceheart.org/event/family-tree-decorating-ceremony-home-pediatrics/
LOCATION:Haig & Isabel Berberian Patient Services Center\, 4368 Spyres Way\, Modesto\, California\, 95356\, United States
ATTACH;FMTTYPE=image/jpeg:https://hospiceheart.org/wp-content/uploads/2024/09/Family-Tree_ERC.jpg
END:VEVENT
BEGIN:VEVENT
DTSTART;TZID=America/Los_Angeles:20241201T163000
DTEND;TZID=America/Los_Angeles:20241201T173000
DTSTAMP:20260425T203553
CREATED:20241118T195804Z
LAST-MODIFIED:20241125T191201Z
UID:4081-1733070600-1733074200@hospiceheart.org
SUMMARY:Light Up A Life – Modesto
DESCRIPTION:On the corner of Coffee Road and Briggsmore Avenue 4:30 PM Reception 5:00 PM Program
URL:https://hospiceheart.org/event/light-up-a-life-modesto-2/
LOCATION:Sutter Memorial Medical Center\, 1700 Coffee Road\, Modesto\, CA\, 95355\, United States
CATEGORIES:Foundation
ATTACH;FMTTYPE=image/jpeg:https://hospiceheart.org/wp-content/uploads/2024/11/LUAL_FB_Modesto.jpg
END:VEVENT
END:VCALENDAR