BEGIN:VCALENDAR
VERSION:2.0
PRODID:-//Community Hospice &amp; Health Services - ECPv6.15.20//NONSGML v1.0//EN
CALSCALE:GREGORIAN
METHOD:PUBLISH
X-ORIGINAL-URL:https://hospiceheart.org
X-WR-CALDESC:Events for Community Hospice &amp; Health Services
REFRESH-INTERVAL;VALUE=DURATION:PT1H
X-Robots-Tag:noindex
X-PUBLISHED-TTL:PT1H
BEGIN:VTIMEZONE
TZID:America/Los_Angeles
BEGIN:DAYLIGHT
TZOFFSETFROM:-0800
TZOFFSETTO:-0700
TZNAME:PDT
DTSTART:20250309T100000
END:DAYLIGHT
BEGIN:STANDARD
TZOFFSETFROM:-0700
TZOFFSETTO:-0800
TZNAME:PST
DTSTART:20251102T090000
END:STANDARD
BEGIN:DAYLIGHT
TZOFFSETFROM:-0800
TZOFFSETTO:-0700
TZNAME:PDT
DTSTART:20260308T100000
END:DAYLIGHT
BEGIN:STANDARD
TZOFFSETFROM:-0700
TZOFFSETTO:-0800
TZNAME:PST
DTSTART:20261101T090000
END:STANDARD
BEGIN:DAYLIGHT
TZOFFSETFROM:-0800
TZOFFSETTO:-0700
TZNAME:PDT
DTSTART:20270314T100000
END:DAYLIGHT
BEGIN:STANDARD
TZOFFSETFROM:-0700
TZOFFSETTO:-0800
TZNAME:PST
DTSTART:20271107T090000
END:STANDARD
END:VTIMEZONE
BEGIN:VEVENT
DTSTART;TZID=America/Los_Angeles:20260914T090000
DTEND;TZID=America/Los_Angeles:20260914T190000
DTSTAMP:20260425T192301
CREATED:20260216T164628Z
LAST-MODIFIED:20260216T165802Z
UID:5388-1789376400-1789412400@hospiceheart.org
SUMMARY:Golf Fore Community Hospice & Health Services
DESCRIPTION:Join the CHHS Foundation for our annual Golf Tournament at the Del Rio Country Club. This exciting event follows a four-person scramble format and promises a full day of enjoyment and camaraderie. To begin\, participants will be treated to brunch and beverages before heading out to the course. Along the way\, they can take part in a variety of fun activities. Later in the day\, the event continues with a hosted dinner accompanied by wine\, followed by an awards ceremony. Additionally\, guests will have the chance to participate in the thrilling helicopter ball drop\, as well as a live auction and more. For more information\, call 209.578.6370 or email Foundation@hospiceheart.org. \n\n\n\nSave the Date! The 2026 Golf Fore Community Hospice & Health Services will take place on Monday\, September 14 at Del Rio Country Club in Modesto.
URL:https://hospiceheart.org/event/chhs-chhsf-golf-tournament/
LOCATION:Del Rio Golf and Country Club\, 801 Stewart Road\, Modesto\, California\, 95356
ATTACH;FMTTYPE=image/jpeg:https://hospiceheart.org/wp-content/uploads/2024/11/Golf-Widget.jpg
ORGANIZER;CN="Community Hospice & Health Services Foundation":MAILTO:Foundation@hospiceheart.org
END:VEVENT
END:VCALENDAR